BEGIN:VCALENDAR
VERSION:2.0
PRODID:-//Sweetwater Utilities - ECPv6.15.20//NONSGML v1.0//EN
CALSCALE:GREGORIAN
METHOD:PUBLISH
X-WR-CALNAME:Sweetwater Utilities
X-ORIGINAL-URL:https://sweetwaterutilities.com
X-WR-CALDESC:Events for Sweetwater Utilities
REFRESH-INTERVAL;VALUE=DURATION:PT1H
X-Robots-Tag:noindex
X-PUBLISHED-TTL:PT1H
BEGIN:VTIMEZONE
TZID:America/Chicago
BEGIN:DAYLIGHT
TZOFFSETFROM:-0600
TZOFFSETTO:-0500
TZNAME:CDT
DTSTART:20250309T080000
END:DAYLIGHT
BEGIN:STANDARD
TZOFFSETFROM:-0500
TZOFFSETTO:-0600
TZNAME:CST
DTSTART:20251102T070000
END:STANDARD
BEGIN:DAYLIGHT
TZOFFSETFROM:-0600
TZOFFSETTO:-0500
TZNAME:CDT
DTSTART:20260308T080000
END:DAYLIGHT
BEGIN:STANDARD
TZOFFSETFROM:-0500
TZOFFSETTO:-0600
TZNAME:CST
DTSTART:20261101T070000
END:STANDARD
BEGIN:DAYLIGHT
TZOFFSETFROM:-0600
TZOFFSETTO:-0500
TZNAME:CDT
DTSTART:20270314T080000
END:DAYLIGHT
BEGIN:STANDARD
TZOFFSETFROM:-0500
TZOFFSETTO:-0600
TZNAME:CST
DTSTART:20271107T070000
END:STANDARD
END:VTIMEZONE
BEGIN:VEVENT
DTSTART;TZID=America/Chicago:20260427T123000
DTEND;TZID=America/Chicago:20260427T140000
DTSTAMP:20260425T170110
CREATED:20260425T010243Z
LAST-MODIFIED:20260425T010243Z
UID:1039-1777293000-1777298400@sweetwaterutilities.com
SUMMARY:Board Meeting
DESCRIPTION:SWEETWATER UTILITIES BOARD \nAGENDA \nAPRIL 27\, 2026 – 12:30 PM \n\nCALL TO ORDER.\n\n\nINVOCATION.\n\n\nAPPROVAL OF MINUTES OF MARCH 30\, 2026 MEETING.\n\n\nEXPLANATION OF AUDIT PLANNING LETTER FOR FY26 – TIM ROYSTER\, PYA.\n\n\nDISBURSEMENTS.\n\n\nMONTHLY OPERATING REPORTS.\n\n\nUPDATE ON ELECTRIC PROJECTS.\n\n\nUPDATE ON WATER PROJECTS.\n\n\nUPDATE ON WASTEWATER PROJECTS.\n\n\nUPDATE ON GAS PROJECTS.\n\n\nREVIEW PENSION PLAN ACTUARIAL VALUATION.\n\n\nSELECT SHS SCHOLARSHIP RECIPIENT.\n\n\nCONTRIBUTION TO BLACK HERITAGE SCHOLARSHIP FUND. \n\n\nCHOOSE DATE FOR WAGE & BENEFIT WORKSHOP IN JUNE.\n\n\nDISCUSS MAY BOARD MTG.\n\n\nADJOURNMENT.
URL:https://sweetwaterutilities.com/event/board-meeting-9/
END:VEVENT
BEGIN:VEVENT
DTSTART;TZID=America/Chicago:20260525T080000
DTEND;TZID=America/Chicago:20260525T170000
DTSTAMP:20260425T170110
CREATED:20260114T150642Z
LAST-MODIFIED:20260114T150642Z
UID:980-1779696000-1779728400@sweetwaterutilities.com
SUMMARY:Closed for Memorial Day
DESCRIPTION:Sweetwater Utilities Board will be closed on the 25th of May for Memorial Day.
URL:https://sweetwaterutilities.com/event/closed-for-memorial-day/
END:VEVENT
BEGIN:VEVENT
DTSTART;TZID=America/Chicago:20260703T080000
DTEND;TZID=America/Chicago:20260703T170000
DTSTAMP:20260425T170110
CREATED:20260114T150456Z
LAST-MODIFIED:20260114T150456Z
UID:978-1783065600-1783098000@sweetwaterutilities.com
SUMMARY:Closed for 4th of July
DESCRIPTION:Sweetwater Utilities Board will be closed for 4th of July
URL:https://sweetwaterutilities.com/event/closed-for-4th-of-july/
END:VEVENT
BEGIN:VEVENT
DTSTART;TZID=America/Chicago:20260907T080000
DTEND;TZID=America/Chicago:20260907T170000
DTSTAMP:20260425T170110
CREATED:20250730T175520Z
LAST-MODIFIED:20260114T150314Z
UID:783-1788768000-1788800400@sweetwaterutilities.com
SUMMARY:CLOSED FOR LABOR DAY
DESCRIPTION:Sweetwater Utilities Board will be closed on the 7th of September for Labor Day.
URL:https://sweetwaterutilities.com/event/closed-for-labor-day/
END:VEVENT
BEGIN:VEVENT
DTSTART;TZID=America/Chicago:20261126T080000
DTEND;TZID=America/Chicago:20261126T170000
DTSTAMP:20260425T170110
CREATED:20250730T175818Z
LAST-MODIFIED:20260114T150213Z
UID:785-1795680000-1795712400@sweetwaterutilities.com
SUMMARY:CLOSED FOR THANKSGIVING
DESCRIPTION:Sweetwater Utilities Board will be closed on the 26th of November for Thanksgiving.
URL:https://sweetwaterutilities.com/event/closed-for-thanksgiving/
END:VEVENT
BEGIN:VEVENT
DTSTART;TZID=America/Chicago:20261127T080000
DTEND;TZID=America/Chicago:20261127T170000
DTSTAMP:20260425T170110
CREATED:20250730T180001Z
LAST-MODIFIED:20260114T150017Z
UID:787-1795766400-1795798800@sweetwaterutilities.com
SUMMARY:CLOSED FOR THE DAY AFTER THANKSGIVING
DESCRIPTION:Sweetwater Utilities Board will be closed the day after Thanksgiving.
URL:https://sweetwaterutilities.com/event/closed-for-the-day-after-thanksgiving/
END:VEVENT
BEGIN:VEVENT
DTSTART;TZID=America/Chicago:20261224T080000
DTEND;TZID=America/Chicago:20261224T170000
DTSTAMP:20260425T170110
CREATED:20250730T180305Z
LAST-MODIFIED:20260114T145829Z
UID:792-1798099200-1798131600@sweetwaterutilities.com
SUMMARY:CLOSED FOR CHRISTMAS EVE
DESCRIPTION:Sweetwater Utilities Board will be closed on the 24th of December for Christmas Eve.
URL:https://sweetwaterutilities.com/event/closed-for-christmas-eve/
END:VEVENT
BEGIN:VEVENT
DTSTART;TZID=America/Chicago:20261225T080000
DTEND;TZID=America/Chicago:20261225T170000
DTSTAMP:20260425T170110
CREATED:20250730T182309Z
LAST-MODIFIED:20260114T145706Z
UID:794-1798185600-1798218000@sweetwaterutilities.com
SUMMARY:CLOSED FOR CHRISTMAS
DESCRIPTION:Sweetwater Utilities Board will be closed on the 25th of December for Christmas.
URL:https://sweetwaterutilities.com/event/closed-for-christmas/
END:VEVENT
END:VCALENDAR