BEGIN:VCALENDAR
VERSION:2.0
PRODID:-//Sweetwater Utilities - ECPv6.15.20//NONSGML v1.0//EN
CALSCALE:GREGORIAN
METHOD:PUBLISH
X-WR-CALNAME:Sweetwater Utilities
X-ORIGINAL-URL:https://sweetwaterutilities.com
X-WR-CALDESC:Events for Sweetwater Utilities
REFRESH-INTERVAL;VALUE=DURATION:PT1H
X-Robots-Tag:noindex
X-PUBLISHED-TTL:PT1H
BEGIN:VTIMEZONE
TZID:America/Chicago
BEGIN:DAYLIGHT
TZOFFSETFROM:-0600
TZOFFSETTO:-0500
TZNAME:CDT
DTSTART:20240310T080000
END:DAYLIGHT
BEGIN:STANDARD
TZOFFSETFROM:-0500
TZOFFSETTO:-0600
TZNAME:CST
DTSTART:20241103T070000
END:STANDARD
BEGIN:DAYLIGHT
TZOFFSETFROM:-0600
TZOFFSETTO:-0500
TZNAME:CDT
DTSTART:20250309T080000
END:DAYLIGHT
BEGIN:STANDARD
TZOFFSETFROM:-0500
TZOFFSETTO:-0600
TZNAME:CST
DTSTART:20251102T070000
END:STANDARD
BEGIN:DAYLIGHT
TZOFFSETFROM:-0600
TZOFFSETTO:-0500
TZNAME:CDT
DTSTART:20260308T080000
END:DAYLIGHT
BEGIN:STANDARD
TZOFFSETFROM:-0500
TZOFFSETTO:-0600
TZNAME:CST
DTSTART:20261101T070000
END:STANDARD
BEGIN:DAYLIGHT
TZOFFSETFROM:-0600
TZOFFSETTO:-0500
TZNAME:CDT
DTSTART:20270314T080000
END:DAYLIGHT
BEGIN:STANDARD
TZOFFSETFROM:-0500
TZOFFSETTO:-0600
TZNAME:CST
DTSTART:20271107T070000
END:STANDARD
END:VTIMEZONE
BEGIN:VEVENT
DTSTART;TZID=America/Chicago:20260525T080000
DTEND;TZID=America/Chicago:20260525T170000
DTSTAMP:20260425T172617
CREATED:20260114T150642Z
LAST-MODIFIED:20260114T150642Z
UID:980-1779696000-1779728400@sweetwaterutilities.com
SUMMARY:Closed for Memorial Day
DESCRIPTION:Sweetwater Utilities Board will be closed on the 25th of May for Memorial Day.
URL:https://sweetwaterutilities.com/event/closed-for-memorial-day/
END:VEVENT
BEGIN:VEVENT
DTSTART;TZID=America/Chicago:20260427T123000
DTEND;TZID=America/Chicago:20260427T140000
DTSTAMP:20260425T172617
CREATED:20260425T010243Z
LAST-MODIFIED:20260425T010243Z
UID:1039-1777293000-1777298400@sweetwaterutilities.com
SUMMARY:Board Meeting
DESCRIPTION:SWEETWATER UTILITIES BOARD \nAGENDA \nAPRIL 27\, 2026 – 12:30 PM \n\nCALL TO ORDER.\n\n\nINVOCATION.\n\n\nAPPROVAL OF MINUTES OF MARCH 30\, 2026 MEETING.\n\n\nEXPLANATION OF AUDIT PLANNING LETTER FOR FY26 – TIM ROYSTER\, PYA.\n\n\nDISBURSEMENTS.\n\n\nMONTHLY OPERATING REPORTS.\n\n\nUPDATE ON ELECTRIC PROJECTS.\n\n\nUPDATE ON WATER PROJECTS.\n\n\nUPDATE ON WASTEWATER PROJECTS.\n\n\nUPDATE ON GAS PROJECTS.\n\n\nREVIEW PENSION PLAN ACTUARIAL VALUATION.\n\n\nSELECT SHS SCHOLARSHIP RECIPIENT.\n\n\nCONTRIBUTION TO BLACK HERITAGE SCHOLARSHIP FUND. \n\n\nCHOOSE DATE FOR WAGE & BENEFIT WORKSHOP IN JUNE.\n\n\nDISCUSS MAY BOARD MTG.\n\n\nADJOURNMENT.
URL:https://sweetwaterutilities.com/event/board-meeting-9/
END:VEVENT
BEGIN:VEVENT
DTSTART;TZID=America/Chicago:20260403T080000
DTEND;TZID=America/Chicago:20260403T170000
DTSTAMP:20260425T172617
CREATED:20260114T150755Z
LAST-MODIFIED:20260114T150755Z
UID:982-1775203200-1775235600@sweetwaterutilities.com
SUMMARY:Closed for Good Friday
DESCRIPTION:Sweetwater Utilities Board will be closed on the 3rd of April for Good Friday.
URL:https://sweetwaterutilities.com/event/closed-for-good-friday/
END:VEVENT
BEGIN:VEVENT
DTSTART;TZID=America/Chicago:20260330T123000
DTEND;TZID=America/Chicago:20260330T140000
DTSTAMP:20260425T172617
CREATED:20260327T174919Z
LAST-MODIFIED:20260327T174919Z
UID:1020-1774873800-1774879200@sweetwaterutilities.com
SUMMARY:Board Meeting
DESCRIPTION: \nSWEETWATER UTILITIES BOARD\n \nAGENDA\n  \nMARCH 30\, 2026 – 12:30 P.M. \n  \n  \n  \n  \n\nCALL TO ORDER.\n\n  \n\nINVOCATION.\n\n  \n\nAPPROVAL OF MINUTES OF FEBRUARY 23\, 2026 MEETING.\n\n  \n\nDISBURSEMENTS.\n\n  \n\nMONTHLY OPERATING REPORTS.\n\n  \n\nUPDATE ON ELECTRIC PROJECTS.\n\n  \n\nUPDATE ON WATER PROJECTS.\n\n  \n\nUPDATE ON WASTEWATER PROJECTS.\n\n  \n\nUPDATE ON GAS PROJECTS.\n\n  \n\nAPPROVAL OF BUDGET FOR FY27.\n\n  \n\nAPPROVAL OF IN-LIEU-OF TAXES FOR FY27.\n\n  \n\nAPPROVE EXCAVATOR BID.\n\n  \n\nDONATION TO SWT. EDUCATION FOUNDATION FOR GREG COLLETTE. \n\n  \n\nADJOURNMENT.\n\n  \n  \n 
URL:https://sweetwaterutilities.com/event/board-meeting-8/
END:VEVENT
BEGIN:VEVENT
DTSTART;TZID=America/Chicago:20260223T123000
DTEND;TZID=America/Chicago:20260223T140000
DTSTAMP:20260425T172617
CREATED:20260220T194914Z
LAST-MODIFIED:20260220T194914Z
UID:1009-1771849800-1771855200@sweetwaterutilities.com
SUMMARY:Board Meeting
DESCRIPTION: \nSWEETWATER UTILITIES BOARD\n \nAGENDA\n  \nFEBRUARY 23\, 2026– 12:30 P.M. \n  \n  \n  \n  \n\nCALL TO ORDER.\n\n  \n\nINVOCATION.\n\n  \n\nAPPROVAL OF MINUTES OF JANUARY 26\, 2026 MEETING.\n\n  \n\nDISBURSEMENTS.\n\n  \n\nMONTHLY OPERATING REPORTS.\n\n  \n\nUPDATE ON ELECTRIC PROJECTS.\n\n  \n\nUPDATE ON WATER PROJECTS.\n\n  \n\nUPDATE ON WASTEWATER PROJECTS.\n\n  \n\nUPDATE ON GAS PROJECTS.\n\n  \n\nRESOLUTION FOR UNCLAIMED PROPERTY FROM STATE OF TN.\n\n  \n\nADJOURNMENT.\n\n  \n  \n 
URL:https://sweetwaterutilities.com/event/board-meeting-7/
END:VEVENT
BEGIN:VEVENT
DTSTART;TZID=America/Chicago:20260216T080000
DTEND;TZID=America/Chicago:20260216T170000
DTSTAMP:20260425T172617
CREATED:20260114T150932Z
LAST-MODIFIED:20260114T150932Z
UID:984-1771228800-1771261200@sweetwaterutilities.com
SUMMARY:Closed for Presidents Day
DESCRIPTION:Sweetwater Utilities Board will be closed on the 16th of February for Presidents Day.
URL:https://sweetwaterutilities.com/event/closed-for-presidents-day/
END:VEVENT
BEGIN:VEVENT
DTSTART;TZID=America/Chicago:20260126T123000
DTEND;TZID=America/Chicago:20260126T140000
DTSTAMP:20260425T172617
CREATED:20260123T161618Z
LAST-MODIFIED:20260123T161618Z
UID:995-1769430600-1769436000@sweetwaterutilities.com
SUMMARY:Board Meeting
DESCRIPTION:SWEETWATER UTILITIES BOARD \n  \nAGENDA \n  \nJANUARY 26\, 2026 – 12:30 P.M. \n  \n  \n  \n  \n1. CALL TO ORDER. \n  \n2. INVOCATION. \n  \n3. APPROVAL OF MINUTES OF NOVEMBER 24\, 2025 MEETING. \n  \n4. DISBURSEMENTS FOR NOVEMBER AND DECEMBER. \n  \n5. MONTHLY OPERATING REPORTS FOR NOVEMBER AND DECEMBER. \n  \n6. UPDATE ON ELECTRIC PROJECTS. \n  \n7. UPDATE ON WATER PROJECTS. \n  \n8. UPDATE ON WASTEWATER PROJECTS. \n  \n9. UPDATE ON GAS PROJECTS. \n  \n10. APPROVE TRADE OF UNIT 14 – 2021 F150. \n  \n11. APPROVAL OF PARTICIPATION IN DIC SAFETY INCENTIVE PROGRAM. \n  \n12. ADJOURNMENT.
URL:https://sweetwaterutilities.com/event/board-meeting-6/
END:VEVENT
BEGIN:VEVENT
DTSTART;TZID=America/Chicago:20251124T123000
DTEND;TZID=America/Chicago:20251124T140000
DTSTAMP:20260425T172617
CREATED:20251121T191659Z
LAST-MODIFIED:20251121T191659Z
UID:951-1763987400-1763992800@sweetwaterutilities.com
SUMMARY:Board Meeting
DESCRIPTION: \nSWEETWATER UTILITIES BOARD\n \nAGENDA\n  \nNOVEMBER 24\, 2025 – 12:30 P.M. \n  \n  \n  \n  \n\nCALL TO ORDER.\n\n  \n\nINVOCATION.\n\n  \n\nAPPROVAL OF MINUTES OF OCTOBER 27\, 2025 MEETING.\n\n  \n\n2026 INSURANCE RENEWAL – JASON MCCONKEY WITH ATHENS   \n\n  \n\nDISBURSEMENTS.\n\n  \n\nMONTHLY OPERATING REPORTS.\n\n  \n\nUPDATE ON ELECTRIC PROJECTS.\n\n  \n\nUPDATE ON WATER PROJECTS.\n\n  \n\nUPDATE ON WASTEWATER PROJECTS.\n\n  \n\nUPDATE ON GAS PROJECTS.\n\n  \n\nAPPROVE PYA AUDIT. \n\n  \n\nPROPOSAL FOR FINANCIAL AUDIT FY26. \n\n  \n\nDISCUSS PAYMENT TO PENSION PLAN FOR JANUARY – JULY 2026. \n\n  \n\nAPPROVE CONTRIBUTION TO UNITED WAY.  \n\n  \n\nAPPROVE DONATION TO NEEDY FAMILY FUND. \n\n  \n\nADJOURNMENT.\n\n  \n  \n*DISCUSS DECEMBER BOARD MEETING
URL:https://sweetwaterutilities.com/event/board-meeting-5/
END:VEVENT
BEGIN:VEVENT
DTSTART;TZID=America/Chicago:20251027T123000
DTEND;TZID=America/Chicago:20251027T143000
DTSTAMP:20260425T172617
CREATED:20251024T192617Z
LAST-MODIFIED:20251024T192617Z
UID:884-1761568200-1761575400@sweetwaterutilities.com
SUMMARY:Board Meeting
DESCRIPTION:SWEETWATER UTILITIES BOARD\n \nAGENDA\n  \nOCTOBER 27\, 2025 – 12:30 P.M. \n  \n  \n  \n  \n\nCALL TO ORDER.\n\n  \n\nINVOCATION.\n\n  \n\nAPPROVAL OF MINUTES OF SEPTEMBER 29\, 2025 MEETING.\n\n  \n\nAUDIT REPORT FOR FY 2025 – PYA.\n\n  \n\nPROPOSAL FOR FINANCIAL AUDIT FY 2026.\n\n  \n\nDISBURSEMENTS.\n\n  \n\nMONTHLY OPERATING REPORTS.\n\n  \n\nUPDATE ON ELECTRIC PROJECTS.\n\n  \n\nUPDATE ON WATER PROJECTS.\n\n  \n\nUPDATE ON WASTEWATER PROJECTS.\n\n  \n\nUPDATE ON GAS PROJECTS.\n\n  \n\nAPPROVE CONTRACT WITH CHANGE ORDER FOR SPRINGHOUSE PROJECT.\n\n  \n\nADJOURNMENT.\n\n  \n  \n*SET DATE FOR CHRISTMAS DINNER* \n 
URL:https://sweetwaterutilities.com/event/board-meeting-4/
END:VEVENT
BEGIN:VEVENT
DTSTART;TZID=America/Chicago:20250929T123000
DTEND;TZID=America/Chicago:20250929T143000
DTSTAMP:20260425T172617
CREATED:20250930T123029Z
LAST-MODIFIED:20250930T123029Z
UID:857-1759149000-1759156200@sweetwaterutilities.com
SUMMARY:BOARD MEETING
DESCRIPTION:SWEETWATER UTILITIES BOARD\n \nAGENDA\n  \nSEPTEMBER 29\, 2025 – 12:30 P.M. \n  \n  \n  \n  \n\nCALL TO ORDER.\n\n  \n\nINVOCATION.\n\n  \n\nAPPROVAL OF MINUTES OF AUGUST 25\, 2025 MEETING.\n\n  \n\nDISBURSEMENTS.\n\n  \n\nMONTHLY OPERATING REPORTS.\n\n  \n\nUPDATE ON ELECTRIC PROJECTS.\n\n  \n\nUPDATE ON WATER PROJECTS.\n\n  \n\nUPDATE ON WASTEWATER PROJECTS.\n\n  \n\nUPDATE ON GAS PROJECTS.\n\n  \n\nADJOURNMENT.\n\n  \n 
URL:https://sweetwaterutilities.com/event/board-meeting-3/
END:VEVENT
BEGIN:VEVENT
DTSTART;TZID=America/Chicago:20250825T123000
DTEND;TZID=America/Chicago:20250825T143000
DTSTAMP:20260425T172617
CREATED:20250822T180547Z
LAST-MODIFIED:20250822T180547Z
UID:804-1756125000-1756132200@sweetwaterutilities.com
SUMMARY:Board Meeting
DESCRIPTION: \nSWEETWATER UTILITIES BOARD\n \nAGENDA\n  \nAUGUST 25\, 2025 – 12:30 P.M. \n  \n  \n\nCALL TO ORDER.\n\n  \n\nINVOCATION.\n\n  \n\nAPPROVAL OF MINUTES OF JULY 28\, 2025 MEETING.\n\n  \n\nDISBURSEMENTS.\n\n  \n\nMONTHLY OPERATING REPORTS.\n\n  \n\nUPDATE ON ELECTRIC PROJECTS.\n\n  \n\nUPDATE ON WATER PROJECTS.\n\n  \n\nUPDATE ON WASTEWATER PROJECTS.\n\n  \n\nUPDATE ON GAS PROJECTS.\n\n  \n\nADJOURNMENT.\n\n  \n  \n 
URL:https://sweetwaterutilities.com/event/board-meeting-2/
END:VEVENT
BEGIN:VEVENT
DTSTART;TZID=America/Chicago:20250728T123000
DTEND;TZID=America/Chicago:20250728T143000
DTSTAMP:20260425T172617
CREATED:20250725T143640Z
LAST-MODIFIED:20250725T143640Z
UID:776-1753705800-1753713000@sweetwaterutilities.com
SUMMARY:Board Meeting
DESCRIPTION: \nSWEETWATER UTILITIES BOARD\n \nAGENDA\n  \nJULY 28\, 2025 – 12:30 P.M. \n  \n  \n  \n  \n\nCALL TO ORDER.\n\n  \n\nINVOCATION.\n\n  \n\nAPPROVAL OF MINUTES OF JUNE 30\, 2025 MEETING.\n\n  \n\nELECTION OF OFFICERS ON THE BOARD.\n\n  \n\nDISBURSEMENTS.\n\n  \n\nMONTHLY OPERATING REPORTS.\n\n  \n\nUPDATE ON ELECTRIC PROJECTS.\n\n  \n\nUPDATE ON WATER PROJECTS.\n\n  \n\nUPDATE ON WASTEWATER PROJECTS.\n\n  \n\nUPDATE ON GAS PROJECTS.\n\n  \n\nDISCUSS CUSTOMER WATER LEAK INSURANCE.\n\n  \n\nSET DATE FOR JOINT MTG. WITH CITY (SEPTEMBER).\n\n  \n\nADJOURNMENT.\n\n  \n 
URL:https://sweetwaterutilities.com/event/board-meeting/
END:VEVENT
BEGIN:VEVENT
DTSTART;TZID=America/Chicago:20250704T080000
DTEND;TZID=America/Chicago:20250704T170000
DTSTAMP:20260425T172617
CREATED:20250702T200950Z
LAST-MODIFIED:20250702T200950Z
UID:765-1751616000-1751648400@sweetwaterutilities.com
SUMMARY:CLOSED FOR INDEPENDENCE DAY
DESCRIPTION:Sweetwater Utilities Board will be closed on July 4th for Independence Day.
URL:https://sweetwaterutilities.com/event/closed-for-independence-day/
END:VEVENT
BEGIN:VEVENT
DTSTART;TZID=America/Chicago:20250630T123000
DTEND;TZID=America/Chicago:20250630T143000
DTSTAMP:20260425T172617
CREATED:20250627T165527Z
LAST-MODIFIED:20250627T165646Z
UID:758-1751286600-1751293800@sweetwaterutilities.com
SUMMARY:BOARD MEETING
DESCRIPTION: TO DOWNLOAD THE AGENDA BELOW PLEASE CLICK THE HYPERLINK – \nbdagendajune2025\n \nSWEETWATER UTILITIES BOARD\n \nAGENDA\n  \nJUNE 30\, 2025 – 12:30 P.M. \n  \n  \n\nCALL TO ORDER.\n\n  \n\nINVOCATION.\n\n  \n\nAPPROVAL OF MINUTES OF APRIL 28\, 2025 MEETING.\n\n  \n\nDISBURSEMENTS FOR APRIL AND MAY.\n\n  \n\nMONTHLY OPERATING REPORTS FOR APRIL AND MAY.\n\n  \n\nUPDATE ON ELECTRIC PROJECTS.\n\n  \n\nUPDATE ON WATER PROJECTS.\n\n  \n\nUPDATE ON WASTEWATER PROJECTS.\n\n  \n\nUPDATE ON GAS PROJECTS.\n\n  \n\nAPPROVAL OF WAGE & BENEFIT PACKAGE. \n\n  \n\nAPPROVAL OF DIC INSURANCE RENEWAL.\n\n  \n\nPARTICIPATION IN DIC SAFETY INCENTIVE PROGRAM. \n\n  \n\nCONTRIBUTION TO 4TH OF JULY CELEBRATION. \n\n  \n\nADJOURNMENT
URL:https://sweetwaterutilities.com/event/758/
END:VEVENT
END:VCALENDAR